BEGIN:VCALENDAR
PRODID:-//hacksw/handcal//NONSGML v1.0//EN
VERSION:2.0
METHOD:PUBLISH
BEGIN:VEVENT
DTSTART:20210623T170000Z
DTEND:20210623T180000Z
LOCATION:viz Zoom
UID:2084220210623T170000ZZen and the Art of Trust Modification
DTSTAMP:20260421T044351Z
DESCRIPTION:\nAttend this webinar to step back from the mind-numbing distinctions and details of particular decanting and nonjudicial modification statutes to focus on universal issues that should be addressed when taking a trust into the shop, along with the nuts and bolts of getting your trust on the road again.\n  \n \nSusan T. Bart is a partner in the Private Clients, Trusts & Estates Group of the Chicago office of Schiff Hardin LLP. She is a Fellow of The American College of Trust and Estate Counsel (ACTEC) and Chair of its Estate and Gift Tax Committee. She was the Reporter for the Uniform Law Commission Trust Decanting Act.\n
SUMMARY:Zen and the Art of Trust Modification - The Estate Planning Council of Northeast Wisconsin 
PRIORITY:3
BEGIN:VALARM
TRIGGER:PT18H
ACTION:DISPLAY
DESCRIPTION:Reminder
END:VALARM
END:VEVENT
END:VCALENDAR